BEGIN:VCALENDAR
VERSION:2.0
PRODID:-//Central Susquehanna Riverboat Society - ECPv6.15.11//NONSGML v1.0//EN
CALSCALE:GREGORIAN
METHOD:PUBLISH
X-WR-CALNAME:Central Susquehanna Riverboat Society
X-ORIGINAL-URL:https://centralsusquehannariverboat.org
X-WR-CALDESC:Events for Central Susquehanna Riverboat Society
REFRESH-INTERVAL;VALUE=DURATION:PT1H
X-Robots-Tag:noindex
X-PUBLISHED-TTL:PT1H
BEGIN:VTIMEZONE
TZID:UTC
BEGIN:STANDARD
TZOFFSETFROM:+0000
TZOFFSETTO:+0000
TZNAME:UTC
DTSTART:20240101T000000
END:STANDARD
END:VTIMEZONE
BEGIN:VEVENT
DTSTART;TZID=UTC:20250312T180000
DTEND;TZID=UTC:20250313T235900
DTSTAMP:20260421T051258
CREATED:20250218T180506Z
LAST-MODIFIED:20250310T160103Z
UID:631-1741802400-1741910340@centralsusquehannariverboat.org
SUMMARY:Raise The Region
DESCRIPTION:RAISE THE REGION\, a movement of generosity\, is a powerful\, 30- hour online campaign designed to raise much needed funds for area nonprofits. This initiative highlights participating organizations whose missions and work address the growing needs of North Central Pennsylvania and help create and empower vital and thriving communities. Organized by the First Community Foundation Partnership of Pennsylvania in 2013\, Raise the Region has since raised 19million dollars for participating nonprofits\, fostering individual giving through a targeted\, unified effort.\nFCFP is partnering in 2025 with Blaise Alexander Family Dealerships whose generous support includes boosting donations and cash prizes\, inspiring charitable contributions that demonstrate the powerful impact of investing locally. \nNonprofits foster civic engagement\, drive economic growth and strengthen the fabric of our communities. This year the Susquehanna Central Riverboat Society is participating in the 2025 Raise the Region campaign. Our Riverboat Project will have a big impact\, bringing people to the river to engage in a variety of cruises featuring music\, food\, education\, history\, river lore and just plain fun! Our Riverboat Project also has big bills! We are building our boat from scratch and have gotten started with a generous grant. However\, we must look to you for your financial support to help us Float our Boat. We know it will take a village to reach our goals. \nPlease join with others March 12 and 13 and participate! It’s All Hands On Deck!\nRaise the Region\, Float our Boat!
URL:https://centralsusquehannariverboat.org/event/raise-the-region/
LOCATION:PA
END:VEVENT
BEGIN:VEVENT
DTSTART;TZID=UTC:20250208T130000
DTEND;TZID=UTC:20250208T160000
DTSTAMP:20260421T051258
CREATED:20250131T173113Z
LAST-MODIFIED:20250131T174435Z
UID:460-1739019600-1739030400@centralsusquehannariverboat.org
SUMMARY:2nd Annual Riverboat Rally
DESCRIPTION:Please join us for our 2nd Annual Riverboat Rally fundraising event on Saturday\, February 8\, 2025\, from 1:00 PM to 4:00 PM at the Sunbury Social Club located on Packer Island\, Sunbury\, PA.\n\nWe will start the event with exciting updates on our riverboat project and river stories by historian John Moore. Entertainment will begin at 1:30pm with the Jolly Tars\, singing sailor folk songs with a sea-chanty rhythm. The headliner of the event is folk singer and local legend Van Wagner. Van will share his original music about life on the Susquehanna.\n\nWe will have raffles and light refreshments will be served along with a cash bar.\n\nThe admission fee is $20 in advance when purchased by Feb. 5. Admission at the door is $25. Click the following link to purchase your tickets now! You will be added to the list of advance ticket sales that will be at the door.\n\nhttps://www.paypal.com/ncp/payment/RAS3VCPFC56SY
URL:https://centralsusquehannariverboat.org/event/2nd-annual-riverboat-rally/
LOCATION:Sunbury Social Club\, 353 East Dr.\, Sunbury\, Pennsylvania\, 17801
END:VEVENT
END:VCALENDAR