BEGIN:VCALENDAR
VERSION:2.0
PRODID:-//Central Susquehanna Riverboat Society - ECPv6.15.11//NONSGML v1.0//EN
CALSCALE:GREGORIAN
METHOD:PUBLISH
X-ORIGINAL-URL:https://centralsusquehannariverboat.org
X-WR-CALDESC:Events for Central Susquehanna Riverboat Society
REFRESH-INTERVAL;VALUE=DURATION:PT1H
X-Robots-Tag:noindex
X-PUBLISHED-TTL:PT1H
BEGIN:VTIMEZONE
TZID:UTC
BEGIN:STANDARD
TZOFFSETFROM:+0000
TZOFFSETTO:+0000
TZNAME:UTC
DTSTART:20240101T000000
END:STANDARD
END:VTIMEZONE
BEGIN:VEVENT
DTSTART;TZID=UTC:20250920T110000
DTEND;TZID=UTC:20250920T170000
DTSTAMP:20260420T115348
CREATED:20250819T144319Z
LAST-MODIFIED:20250917T022326Z
UID:675-1758366000-1758387600@centralsusquehannariverboat.org
SUMMARY:MOTORCYCLE POKER RUN!
DESCRIPTION:Ride on! \nSupport the Central Susquehanna Riverboat Society and join us for a Poker Run on a motorcycle ride through the beautiful Pennsylvania countryside! Proceeds benefit the building of the CSRS Riverboat! \nHosted by and leaving from Iron Vines Winery at 322 Raspberry Ave\, Sunbury. Preregistration is appreciated by scanning the QR code below or here. Drivers $20 in advance or $25 at the door. Passengers $10. Food is provided at the last stop at Iron Vines Winery. Bikes\, Cars\, Planes\, Trains! All modes of transportation are welcome! \nTHIS EVENT HAS BEEN CANCELED
URL:https://centralsusquehannariverboat.org/event/motorcycle-poker-run/
LOCATION:Iron Vines Winery
ATTACH;FMTTYPE=image/jpeg:https://centralsusquehannariverboat.org/wp-content/uploads/2025/08/Poker-Run-Flyer.jpg
END:VEVENT
END:VCALENDAR